BEGIN:VCALENDAR
VERSION:2.0
PRODID:-//Lourie Emmaus Community  - ECPv6.15.20//NONSGML v1.0//EN
CALSCALE:GREGORIAN
METHOD:PUBLISH
X-WR-CALNAME:Lourie Emmaus Community 
X-ORIGINAL-URL:https://emmauslourie.co.za
X-WR-CALDESC:Events for Lourie Emmaus Community 
REFRESH-INTERVAL;VALUE=DURATION:PT1H
X-Robots-Tag:noindex
X-PUBLISHED-TTL:PT1H
BEGIN:VTIMEZONE
TZID:UTC
BEGIN:STANDARD
TZOFFSETFROM:+0000
TZOFFSETTO:+0000
TZNAME:UTC
DTSTART:20250101T000000
END:STANDARD
END:VTIMEZONE
BEGIN:VTIMEZONE
TZID:Europe/Helsinki
BEGIN:DAYLIGHT
TZOFFSETFROM:+0200
TZOFFSETTO:+0300
TZNAME:EEST
DTSTART:20250330T010000
END:DAYLIGHT
BEGIN:STANDARD
TZOFFSETFROM:+0300
TZOFFSETTO:+0200
TZNAME:EET
DTSTART:20251026T010000
END:STANDARD
BEGIN:DAYLIGHT
TZOFFSETFROM:+0200
TZOFFSETTO:+0300
TZNAME:EEST
DTSTART:20260329T010000
END:DAYLIGHT
BEGIN:STANDARD
TZOFFSETFROM:+0300
TZOFFSETTO:+0200
TZNAME:EET
DTSTART:20261025T010000
END:STANDARD
BEGIN:DAYLIGHT
TZOFFSETFROM:+0200
TZOFFSETTO:+0300
TZNAME:EEST
DTSTART:20270328T010000
END:DAYLIGHT
BEGIN:STANDARD
TZOFFSETFROM:+0300
TZOFFSETTO:+0200
TZNAME:EET
DTSTART:20271031T010000
END:STANDARD
END:VTIMEZONE
BEGIN:VEVENT
DTSTART;VALUE=DATE:20260427
DTEND;VALUE=DATE:20260428
DTSTAMP:20260420T152837
CREATED:20260324T132903Z
LAST-MODIFIED:20260324T132903Z
UID:1665-1777248000-1777334399@emmauslourie.co.za
SUMMARY:Freedom Day
DESCRIPTION:
URL:https://emmauslourie.co.za/event/freedom-day/
END:VEVENT
BEGIN:VEVENT
DTSTART;VALUE=DATE:20260501
DTEND;VALUE=DATE:20260502
DTSTAMP:20260420T152837
CREATED:20260324T133038Z
LAST-MODIFIED:20260324T133038Z
UID:1668-1777593600-1777679999@emmauslourie.co.za
SUMMARY:Workers Day
DESCRIPTION:
URL:https://emmauslourie.co.za/event/workers-day/
END:VEVENT
BEGIN:VEVENT
DTSTART;VALUE=DATE:20260523
DTEND;VALUE=DATE:20260524
DTSTAMP:20260420T152837
CREATED:20250604T195923Z
LAST-MODIFIED:20260324T125818Z
UID:1518-1779494400-1779580799@emmauslourie.co.za
SUMMARY:Emmaus Orientation
DESCRIPTION:
URL:https://emmauslourie.co.za/event/emmaus-orientation/
LOCATION:Ella Combrink\, Nelspruit\, Mpumalanga\, 1201\, South Africa
END:VEVENT
BEGIN:VEVENT
DTSTART;VALUE=DATE:20260616
DTEND;VALUE=DATE:20260617
DTSTAMP:20260420T152837
CREATED:20260324T135251Z
LAST-MODIFIED:20260324T135251Z
UID:1679-1781568000-1781654399@emmauslourie.co.za
SUMMARY:Youth Day
DESCRIPTION:
URL:https://emmauslourie.co.za/event/youth-day/
END:VEVENT
BEGIN:VEVENT
DTSTART;VALUE=DATE:20260621
DTEND;VALUE=DATE:20260622
DTSTAMP:20260420T152837
CREATED:20260324T135423Z
LAST-MODIFIED:20260324T135423Z
UID:1681-1782000000-1782086399@emmauslourie.co.za
SUMMARY:Board & Emmaus Training
DESCRIPTION:
URL:https://emmauslourie.co.za/event/board-emmaus-training/
END:VEVENT
BEGIN:VEVENT
DTSTART;VALUE=DATE:20260801
DTEND;VALUE=DATE:20260803
DTSTAMP:20260420T152837
CREATED:20250604T200226Z
LAST-MODIFIED:20260324T125633Z
UID:1524-1785542400-1785715199@emmauslourie.co.za
SUMMARY:Emmaus Training Weekend
DESCRIPTION:
URL:https://emmauslourie.co.za/event/emmaus-training-weekend/
LOCATION:Ella Combrink\, Nelspruit\, Mpumalanga\, 1201\, South Africa
END:VEVENT
BEGIN:VEVENT
DTSTART;VALUE=DATE:20260809
DTEND;VALUE=DATE:20260810
DTSTAMP:20260420T152837
CREATED:20260324T135631Z
LAST-MODIFIED:20260324T135631Z
UID:1683-1786233600-1786319999@emmauslourie.co.za
SUMMARY:Womans Day
DESCRIPTION:
URL:https://emmauslourie.co.za/event/womans-day/
END:VEVENT
BEGIN:VEVENT
DTSTART;VALUE=DATE:20260903
DTEND;VALUE=DATE:20260907
DTSTAMP:20260420T152837
CREATED:20260324T121846Z
LAST-MODIFIED:20260408T171059Z
UID:1627-1788393600-1788739199@emmauslourie.co.za
SUMMARY:Mens Walk #86
DESCRIPTION:Walk to Emmaus\nMens Walk #86\nElla Combrink
URL:https://emmauslourie.co.za/event/mens-walk-86/
LOCATION:Ella Combrink\, Nelspruit\, Mpumalanga\, 1201\, South Africa
END:VEVENT
BEGIN:VEVENT
DTSTART;VALUE=DATE:20260910
DTEND;VALUE=DATE:20260914
DTSTAMP:20260420T152837
CREATED:20260324T122034Z
LAST-MODIFIED:20260408T170928Z
UID:1630-1788998400-1789343999@emmauslourie.co.za
SUMMARY:Ladies Walk #87
DESCRIPTION:Walk to Emmaus\nLadies Walk #87\nElla Combrink
URL:https://emmauslourie.co.za/event/ladies-walk-87/
LOCATION:Ella Combrink\, Nelspruit\, Mpumalanga\, 1201\, South Africa
END:VEVENT
BEGIN:VEVENT
DTSTART;VALUE=DATE:20260914
DTEND;VALUE=DATE:20260915
DTSTAMP:20260420T152837
CREATED:20260324T135759Z
LAST-MODIFIED:20260324T135759Z
UID:1685-1789344000-1789430399@emmauslourie.co.za
SUMMARY:Heritage Day
DESCRIPTION:
URL:https://emmauslourie.co.za/event/heritage-day/
END:VEVENT
BEGIN:VEVENT
DTSTART;VALUE=DATE:20261010
DTEND;VALUE=DATE:20261011
DTSTAMP:20260420T152837
CREATED:20250604T200721Z
LAST-MODIFIED:20260324T124355Z
UID:1530-1791590400-1791676799@emmauslourie.co.za
SUMMARY:Lourie AGM & Post Walk Gathering
DESCRIPTION:
URL:https://emmauslourie.co.za/event/lourie-agm-and-post-walk-gathering/
LOCATION:Ella Combrink\, Nelspruit\, Mpumalanga\, 1201\, South Africa
END:VEVENT
BEGIN:VEVENT
DTSTART;VALUE=DATE:20261107
DTEND;VALUE=DATE:20261108
DTSTAMP:20260420T152837
CREATED:20260324T135922Z
LAST-MODIFIED:20260324T135922Z
UID:1687-1794009600-1794095999@emmauslourie.co.za
SUMMARY:Handover Meeting
DESCRIPTION:
URL:https://emmauslourie.co.za/event/handover-meeting/
END:VEVENT
BEGIN:VEVENT
DTSTART;VALUE=DATE:20261113
DTEND;VALUE=DATE:20261114
DTSTAMP:20260420T152837
CREATED:20260324T122744Z
LAST-MODIFIED:20260324T125247Z
UID:1634-1794528000-1794614399@emmauslourie.co.za
SUMMARY:EMSA Indaba
DESCRIPTION:EMSA Indaba \n\nSabaan Guest Farm\nR536 Sabie rd\nHazyview
URL:https://emmauslourie.co.za/event/emsa-indaba/
END:VEVENT
BEGIN:VEVENT
DTSTART;VALUE=DATE:20261114
DTEND;VALUE=DATE:20261116
DTSTAMP:20260420T152837
CREATED:20260324T122927Z
LAST-MODIFIED:20260324T125051Z
UID:1636-1794614400-1794787199@emmauslourie.co.za
SUMMARY:EMSA AGM
DESCRIPTION:EMSA Indaba & AGM \n\nSabaan Guest Farm\nR536 Sabie rd\nHazyview
URL:https://emmauslourie.co.za/event/emsa-agm/
END:VEVENT
END:VCALENDAR